BEGIN:VCALENDAR
VERSION:2.0
PRODID:-//Board & Bean//Event Calendar//EN
CALSCALE:GREGORIAN
METHOD:PUBLISH
X-WR-CALNAME:Halo Flashpoint Demo Day
X-WR-TIMEZONE:Europe/London
BEGIN:VEVENT
UID:e63f4b50-0bc9-4cda-a58c-fddfcdc68a99@boardandbean.co.uk
SUMMARY:Halo Flashpoint Demo Day
DTSTAMP:20260424T093325Z
DTSTART:20260425T110000Z
DTEND:20260425T160000Z
DESCRIPTION:When: Sat 25th Apr 12:00 - 17:00\n\n🎯 Halo Flashpoint demos in the Annex Saturday! 🎯 We’ll have Daniel with us in the Annex from 12:00 until 17:00 running Halo Flashpoint demos 👀 So if you’ve been curious about the game\, want to see how it plays\, or just fancy trying something new\, come along and jump in. And if you’re already in on Saturday\, just pop by his table and check it out — no need to come in specifically for it\, but it’s well worth a look while you’re here 😄 📍 Tomorrow | 12:00–17:00 | The Annex 📍 Board &amp;amp\; Bean\n\nWhere: Board &amp; Bean\, 4a New Beetwell Street\, Chesterfield\, S40 1QR\, United Kingdom\n\nBook: https://order.boardandbean.co.uk
LOCATION:Board &amp; Bean\, 4a New Beetwell Street\, Chesterfield\, S40 1QR\, United Kingdom
URL:https://boardandbean.co.uk/events/halo-flashpoint-demo-day
STATUS:CONFIRMED
TRANSP:OPAQUE
END:VEVENT
END:VCALENDAR
